BEGIN:VCALENDAR
VERSION:2.0
PRODID:-//Christchurch School of Music - ECPv5.3.1.1//NONSGML v1.0//EN
CALSCALE:GREGORIAN
METHOD:PUBLISH
X-WR-CALNAME:Christchurch School of Music
X-ORIGINAL-URL:https://www.csm.org.nz
X-WR-CALDESC:Events for Christchurch School of Music
BEGIN:VTIMEZONE
TZID:Pacific/Auckland
BEGIN:STANDARD
TZOFFSETFROM:+1300
TZOFFSETTO:+1200
TZNAME:NZST
DTSTART:20210403T140000
END:STANDARD
BEGIN:DAYLIGHT
TZOFFSETFROM:+1200
TZOFFSETTO:+1300
TZNAME:NZDT
DTSTART:20210925T140000
END:DAYLIGHT
END:VTIMEZONE
BEGIN:VEVENT
DTSTART;VALUE=DATE:20210120
DTEND;VALUE=DATE:20210123
DTSTAMP:20210120T150613
CREATED:20210119T080024Z
LAST-MODIFIED:20210119T080024Z
UID:3462-1611100800-1611359999@www.csm.org.nz
SUMMARY:Chamber Music Holiday Programme
DESCRIPTION:30 excited and talented young musicians will be getting together to make wonderful music together\, have some fun\, and make good friends. Under the guidance of our Chamber Music HOD\, Mandy Fleener\, the students will work on pieces throughout the three days with lots of encouragement and support from tutors\, Anne Robinson\, Julie Ann Link\, Alex Morton and Arna Morton. The three days will finish with a performance at Fitzroy Retirement Home and a concert for parents and friends.
URL:https://www.csm.org.nz/event/chamber-music-holiday-programme/
LOCATION:Rangi Ruru Girls’ School\, Merivale Lane\, Christchurch\, New Zealand
END:VEVENT
END:VCALENDAR